BEGIN:VCALENDAR
VERSION:2.0
PRODID:-//ddaysoftware.com//NONSGML DDay.iCal 1.0//EN
BEGIN:VTIMEZONE
TZID:W. Europe Standard Time
BEGIN:STANDARD
DTSTART:20251002T030000
RRULE:FREQ=YEARLY;BYDAY=-1SU;BYHOUR=3;BYMINUTE=0;BYMONTH=10
TZNAME:Mitteleuropäische Zeit
TZOFFSETFROM:+0200
TZOFFSETTO:+0100
END:STANDARD
BEGIN:DAYLIGHT
DTSTART:20250301T020000
RRULE:FREQ=YEARLY;BYDAY=-1SU;BYHOUR=2;BYMINUTE=0;BYMONTH=3
TZNAME:Mitteleuropäische Sommerzeit
TZOFFSETFROM:+0100
TZOFFSETTO:+0200
END:DAYLIGHT
END:VTIMEZONE
BEGIN:VEVENT
CATEGORIES:Faschingsveranstaltung
CATEGORIES:Spiel\, Spaß
CATEGORIES:Highlight
DESCRIPTION:\n\nVeranstalter: Carneval Club Dorfprozelten e.V. \n\nhttps://
 www.dorfprozelten.de/tourismus-freizeit-kultur/veranstaltungen/ccd-rathaus
 sturm/
DTEND:20261111T201100
DTSTAMP:20260419T141407Z
DTSTART:20261111T191100
LOCATION:Altes Rathaus: Maingasse 4\, 97904  Dorfprozelten
SEQUENCE:0
SUMMARY:CCD: Rathaussturm
UID:105651
URL:https://www.dorfprozelten.de/tourismus-freizeit-kultur/veranstaltungen/
 ccd-rathaussturm/
END:VEVENT
END:VCALENDAR
